BEGIN:VCALENDAR
VERSION:2.0
PRODID:-//hacksw/handcal//NONSGML v1.0//EN
BEGIN:VEVENT
SUMMARY:Challenge Veterans Eschau
UID:0e074997-7b9b-4fa2-9df9-a8ee26e2ed73
DTSTART:20260528T120000Z
DTEND:20260528T170000Z
LOCATION:Localisation   
CATEGORIES:Sportif
STATUS:
URL;VALUE=URI:https://petanqueloisirsgeispolsheim.sportsregions.fr/evenements/2026/05/28/challenge-veterans-eschau-2441247
END:VEVENT
END:VCALENDAR
