BEGIN:VCALENDAR
VERSION:2.0
PRODID:-//hacksw/handcal//NONSGML v1.0//EN
BEGIN:VEVENT
SUMMARY:Challenge Veterans Robertsau
UID:41b96f13-6807-4bf7-8970-5a42453e78a9
DTSTART:20260604T120000Z
DTEND:20260604T170000Z
LOCATION:Localisation   
CATEGORIES:Sportif
STATUS:
URL;VALUE=URI:https://petanqueloisirsgeispolsheim.sportsregions.fr/evenements/2026/06/04/challenge-veterans-robertsau-2441248
END:VEVENT
END:VCALENDAR
