BEGIN:VCALENDAR
VERSION:2.0
PRODID:-//hacksw/handcal//NONSGML v1.0//EN
BEGIN:VEVENT
SUMMARY:Challenge Veterans ASPTT
UID:30192b65-66de-43b1-9446-d828b337ad74
DTSTART:20260611T120000Z
DTEND:20260611T170000Z
LOCATION:Localisation   
CATEGORIES:Sportif
STATUS:
URL;VALUE=URI:https://petanqueloisirsgeispolsheim.sportsregions.fr/evenements/2026/06/11/challenge-veterans-asptt-2441250
END:VEVENT
END:VCALENDAR
