BEGIN:VCALENDAR
VERSION:2.0
PRODID:-//hacksw/handcal//NONSGML v1.0//EN
BEGIN:VEVENT
SUMMARY:Challenge Veterans Wolfisheim
UID:912ef98c-b385-4fdd-80b2-498c6ef11de0
DTSTART:20260618T120000Z
DTEND:20260618T170000Z
LOCATION:Localisation   
CATEGORIES:Sportif
STATUS:
URL;VALUE=URI:https://petanqueloisirsgeispolsheim.sportsregions.fr/evenements/2026/06/18/challenge-veterans-wolfisheim-2441251
END:VEVENT
END:VCALENDAR
