BEGIN:VCALENDAR
VERSION:2.0
PRODID:-//hacksw/handcal//NONSGML v1.0//EN
BEGIN:VEVENT
SUMMARY:Challenge Veterans Romanswiller
UID:5fb52fed-e3b8-467d-88e3-3ebd59ee9abd
DTSTART:20260625T120000Z
DTEND:20260625T170000Z
LOCATION:Localisation   
CATEGORIES:Sportif
STATUS:
URL;VALUE=URI:https://petanqueloisirsgeispolsheim.sportsregions.fr/evenements/2026/06/25/challenge-veterans-romanswiller-2441252
END:VEVENT
END:VCALENDAR
