BEGIN:VCALENDAR
VERSION:2.0
PRODID:-//hacksw/handcal//NONSGML v1.0//EN
BEGIN:VEVENT
SUMMARY:Challenge Veterans Boule Cassee
UID:c68fed2d-9041-43ac-88cd-f8828468088a
DTSTART:20260716T120000Z
DTEND:20260716T170000Z
LOCATION:Localisation   
CATEGORIES:Sportif
STATUS:
URL;VALUE=URI:https://petanqueloisirsgeispolsheim.sportsregions.fr/evenements/2026/07/16/challenge-veterans-boule-cassee-2441258
END:VEVENT
END:VCALENDAR
