BEGIN:VCALENDAR
VERSION:2.0
PRODID:-//hacksw/handcal//NONSGML v1.0//EN
BEGIN:VEVENT
SUMMARY:Challenge Veterans Eschau
UID:fffc20f5-e319-445e-aa99-352a1bba6b27
DTSTART:20260723T120000Z
DTEND:20260723T170000Z
LOCATION:Localisation   
CATEGORIES:Sportif
STATUS:
URL;VALUE=URI:https://petanqueloisirsgeispolsheim.sportsregions.fr/evenements/2026/07/23/challenge-veterans-eschau-2441259
END:VEVENT
END:VCALENDAR
