BEGIN:VCALENDAR
VERSION:2.0
PRODID:-//hacksw/handcal//NONSGML v1.0//EN
BEGIN:VEVENT
SUMMARY:Challenge Veterans Boule Cassee
UID:29f3ad6a-3efc-4603-acda-a83108f64599
DTSTART:20260730T120000Z
DTEND:20260730T170000Z
LOCATION:Localisation   
CATEGORIES:Sportif
STATUS:
URL;VALUE=URI:https://petanqueloisirsgeispolsheim.sportsregions.fr/evenements/2026/07/30/challenge-veterans-boule-cassee-2441260
END:VEVENT
END:VCALENDAR
