BEGIN:VCALENDAR
VERSION:2.0
PRODID:-//hacksw/handcal//NONSGML v1.0//EN
BEGIN:VEVENT
SUMMARY:Challenge Veterans Robertsau
UID:483d86e9-83c3-40d9-82c2-4aaf61b31f8d
DTSTART:20260806T120000Z
DTEND:20260806T170000Z
LOCATION:Localisation   
CATEGORIES:Sportif
STATUS:
URL;VALUE=URI:https://petanqueloisirsgeispolsheim.sportsregions.fr/evenements/2026/08/06/challenge-veterans-robertsau-2441261
END:VEVENT
END:VCALENDAR
