BEGIN:VCALENDAR
VERSION:2.0
PRODID:-//hacksw/handcal//NONSGML v1.0//EN
BEGIN:VEVENT
SUMMARY:Challenge Veterans Oberschaeffolsheim
UID:180486ea-fd03-44bc-98de-611fd393791e
DTSTART:20260827T120000Z
DTEND:20260827T170000Z
LOCATION:Localisation   
CATEGORIES:Sportif
STATUS:
URL;VALUE=URI:https://petanqueloisirsgeispolsheim.sportsregions.fr/evenements/2026/08/27/challenge-veterans-oberschaeffolsheim-2441264
END:VEVENT
END:VCALENDAR
