BEGIN:VCALENDAR
VERSION:2.0
PRODID:-//hacksw/handcal//NONSGML v1.0//EN
BEGIN:VEVENT
SUMMARY:Challenge Veterans Petancair's Neudorf
UID:3e4eb3c8-f2cd-4f5a-84fb-25247b0af19f
DTSTART:20260910T113000Z
DTEND:20260910T170000Z
LOCATION:Localisation   
CATEGORIES:Sportif
STATUS:
URL;VALUE=URI:https://petanqueloisirsgeispolsheim.sportsregions.fr/evenements/2026/09/10/challenge-veterans-petancairs-neudorf-2441266
END:VEVENT
END:VCALENDAR
